BEGIN:VCALENDAR
VERSION:2.0
PRODID:icalendar-ruby
CALSCALE:GREGORIAN
METHOD:PUBLISH
BEGIN:VEVENT
DTSTAMP:20260421T145823Z
UID:119-486570@rgchurch.net
DTSTART:20260508T223000Z
DTEND:20260509T000000Z
CLASS:PUBLIC
CREATED:20260420T101905
DESCRIPTION:
LAST-MODIFIED:20260420T101905
LOCATION:
SUMMARY:Men's Prayer Meeting
URL;VALUE=URI:https://rgchurch.net/events/mens-prayer-meeting--119/2026-05-
 08
ATTACH;FILENAME=Mens-Prayer-Meeting-May-2026.png;FMTTYPE=image/png:https://
 dq5pwpg1q8ru0.cloudfront.net/2026/04/20/14/19/05/48febd97-3469-4b14-8be4-e
 bb18bb1782f/Mens-Prayer-Meeting-May-2026.png
END:VEVENT
END:VCALENDAR
