BEGIN:VCALENDAR
VERSION:2.0
PRODID:icalendar-ruby
CALSCALE:GREGORIAN
METHOD:PUBLISH
BEGIN:VEVENT
DTSTAMP:20260421T150243Z
UID:121-486986@rgchurch.net
DTSTART:20260605T223000Z
DTEND:20260606T000000Z
CLASS:PUBLIC
CREATED:20260420T105842
DESCRIPTION:Join the men as they come together for a night of prayer!
LAST-MODIFIED:20260420T105842
LOCATION:
SUMMARY:Men's Prayer Meeting
URL;VALUE=URI:https://rgchurch.net/events/mens-prayer-meeting--121/2026-06-
 05
ATTACH;FILENAME=Mens-Prayer-Meeting-June-2026-2.png;FMTTYPE=image/png:https
 ://dq5pwpg1q8ru0.cloudfront.net/2026/04/20/14/58/42/2fb1360d-45c9-4863-b01
 e-96600466daa2/Mens-Prayer-Meeting-June-2026-2.png
END:VEVENT
END:VCALENDAR
