BEGIN:VCALENDAR
VERSION:2.0
PRODID:icalendar-ruby
CALSCALE:GREGORIAN
METHOD:PUBLISH
BEGIN:VEVENT
DTSTAMP:20260421T145343Z
UID:120-486984@rgchurch.net
DTSTART:20260522T220000Z
DTEND:20260523T000000Z
CLASS:PUBLIC
CREATED:20260420T103435
DESCRIPTION:Calling all RGC youth! Have a night full of fun and laughter at
  Interstate Bowl North in Harrisonburg\, VA!
LAST-MODIFIED:20260420T103435
LOCATION:Interstate Bowl North
SUMMARY:Youth Bowling Night
URL;VALUE=URI:https://rgchurch.net/events/youth-bowling-night/2026-05-22
ATTACH;FILENAME=Black-White-Orange-Illustrated-Night-Bowling-Instagram-Post
 .png;FMTTYPE=image/png:https://dq5pwpg1q8ru0.cloudfront.net/2026/04/20/14/
 32/09/2d119613-ffbf-4d7d-b56b-cd735cf381e9/Black-White-Orange-Illustrated-
 Night-Bowling-Instagram-Post.png
END:VEVENT
END:VCALENDAR
